BEGIN:VCALENDAR
VERSION:2.0
PRODID:-//Mater Dolorosa Passionist Retreat Center - ECPv6.15.20//NONSGML v1.0//EN
CALSCALE:GREGORIAN
METHOD:PUBLISH
X-WR-CALNAME:Mater Dolorosa Passionist Retreat Center
X-ORIGINAL-URL:https://materdolorosa.org
X-WR-CALDESC:Events for Mater Dolorosa Passionist Retreat Center
REFRESH-INTERVAL;VALUE=DURATION:PT1H
X-Robots-Tag:noindex
X-PUBLISHED-TTL:PT1H
BEGIN:VTIMEZONE
TZID:America/Los_Angeles
BEGIN:DAYLIGHT
TZOFFSETFROM:-0800
TZOFFSETTO:-0700
TZNAME:PDT
DTSTART:20250309T100000
END:DAYLIGHT
BEGIN:STANDARD
TZOFFSETFROM:-0700
TZOFFSETTO:-0800
TZNAME:PST
DTSTART:20251102T090000
END:STANDARD
BEGIN:DAYLIGHT
TZOFFSETFROM:-0800
TZOFFSETTO:-0700
TZNAME:PDT
DTSTART:20260308T100000
END:DAYLIGHT
BEGIN:STANDARD
TZOFFSETFROM:-0700
TZOFFSETTO:-0800
TZNAME:PST
DTSTART:20261101T090000
END:STANDARD
BEGIN:DAYLIGHT
TZOFFSETFROM:-0800
TZOFFSETTO:-0700
TZNAME:PDT
DTSTART:20270314T100000
END:DAYLIGHT
BEGIN:STANDARD
TZOFFSETFROM:-0700
TZOFFSETTO:-0800
TZNAME:PST
DTSTART:20271107T090000
END:STANDARD
END:VTIMEZONE
BEGIN:VEVENT
DTSTART;TZID=America/Los_Angeles:20260429T080000
DTEND;TZID=America/Los_Angeles:20260429T170000
DTSTAMP:20260424T111408
CREATED:20260107T142805Z
LAST-MODIFIED:20260415T193532Z
UID:10000397-1777449600-1777482000@materdolorosa.org
SUMMARY:Annual Retreat for Grandparents\, Godparents and Guardians
DESCRIPTION:Wednesday\, April 29\, 8:00 am – 5:00 pm: Annual Retreat for Grandparents\, Godparents and Guardians. More details to be published soon.
URL:https://materdolorosa.org/event/annual-retreat-for-grandparents-godparents-and-guardians/
CATEGORIES:Grandparents,Retreats
ATTACH;FMTTYPE=image/jpeg:https://materdolorosa.org/wp-content/uploads/2026/01/Grandparents-Retreat-Flier.jpg
END:VEVENT
BEGIN:VEVENT
DTSTART;VALUE=DATE:20260501
DTEND;VALUE=DATE:20260504
DTSTAMP:20260424T111408
CREATED:20251117T202319Z
LAST-MODIFIED:20251117T203310Z
UID:10000113-1777593600-1777852799@materdolorosa.org
SUMMARY:Women’s Weekend Retreat
DESCRIPTION:
URL:https://materdolorosa.org/event/womens-weekend-retreat-25/
CATEGORIES:Weekend,Women
END:VEVENT
BEGIN:VEVENT
DTSTART;VALUE=DATE:20260515
DTEND;VALUE=DATE:20260518
DTSTAMP:20260424T111408
CREATED:20251117T202319Z
LAST-MODIFIED:20260114T180147Z
UID:10000114-1778803200-1779062399@materdolorosa.org
SUMMARY:Italian Men's Retreat
DESCRIPTION:
URL:https://materdolorosa.org/event/mens-weekend-retreat-41/
CATEGORIES:Men,Weekend
END:VEVENT
BEGIN:VEVENT
DTSTART;VALUE=DATE:20260522
DTEND;VALUE=DATE:20260525
DTSTAMP:20260424T111408
CREATED:20251117T202320Z
LAST-MODIFIED:20251117T203418Z
UID:10000115-1779408000-1779667199@materdolorosa.org
SUMMARY:Men’s Recovery Retreat Weekend
DESCRIPTION:
URL:https://materdolorosa.org/event/mens-recovery-retreat-weekend/
CATEGORIES:Men,Recovery & 12 Step,Weekend
END:VEVENT
BEGIN:VEVENT
DTSTART;VALUE=DATE:20260529
DTEND;VALUE=DATE:20260601
DTSTAMP:20260424T111408
CREATED:20251117T202320Z
LAST-MODIFIED:20251117T203209Z
UID:10000116-1780012800-1780271999@materdolorosa.org
SUMMARY:Recovery Retreat Weekend
DESCRIPTION:
URL:https://materdolorosa.org/event/recovery-retreat-weekend/
CATEGORIES:Recovery & 12 Step,Weekend
END:VEVENT
BEGIN:VEVENT
DTSTART;VALUE=DATE:20260605
DTEND;VALUE=DATE:20260608
DTSTAMP:20260424T111408
CREATED:20251117T202320Z
LAST-MODIFIED:20251117T203010Z
UID:10000117-1780617600-1780876799@materdolorosa.org
SUMMARY:Women’s Weekend Retreat
DESCRIPTION:
URL:https://materdolorosa.org/event/womens-weekend-retreat-26/
CATEGORIES:Weekend,Women
END:VEVENT
BEGIN:VEVENT
DTSTART;VALUE=DATE:20260612
DTEND;VALUE=DATE:20260615
DTSTAMP:20260424T111408
CREATED:20251117T202304Z
LAST-MODIFIED:20251117T202304Z
UID:10000103-1781222400-1781481599@materdolorosa.org
SUMMARY:Married Couples Retreat
DESCRIPTION:
URL:https://materdolorosa.org/event/married-couples-retreat-6/
CATEGORIES:Married Couples
END:VEVENT
BEGIN:VEVENT
DTSTART;VALUE=DATE:20260620
DTEND;VALUE=DATE:20260621
DTSTAMP:20260424T111408
CREATED:20260414T220449Z
LAST-MODIFIED:20260414T220449Z
UID:10001486-1781913600-1781999999@materdolorosa.org
SUMMARY:Men and Women One-day Retreat
DESCRIPTION:
URL:https://materdolorosa.org/event/men-and-women-one-day-retreat/
CATEGORIES:Men,Women
END:VEVENT
BEGIN:VEVENT
DTSTART;VALUE=DATE:20260627
DTEND;VALUE=DATE:20260629
DTSTAMP:20260424T111408
CREATED:20251117T202320Z
LAST-MODIFIED:20260408T213239Z
UID:10000118-1782518400-1782691199@materdolorosa.org
SUMMARY:Captains Retreat
DESCRIPTION:
URL:https://materdolorosa.org/event/captains-retreat-day/
CATEGORIES:Weekend
END:VEVENT
BEGIN:VEVENT
DTSTART;VALUE=DATE:20260710
DTEND;VALUE=DATE:20260713
DTSTAMP:20260424T111408
CREATED:20251117T202321Z
LAST-MODIFIED:20251117T203209Z
UID:10000119-1783641600-1783900799@materdolorosa.org
SUMMARY:Recovery Weekend All 12 Step weekend
DESCRIPTION:
URL:https://materdolorosa.org/event/recovery-weekend-all-12-step-weekend/
CATEGORIES:Recovery & 12 Step,Weekend
END:VEVENT
BEGIN:VEVENT
DTSTART;VALUE=DATE:20260724
DTEND;VALUE=DATE:20260727
DTSTAMP:20260424T111408
CREATED:20251117T202321Z
LAST-MODIFIED:20251117T203209Z
UID:10000120-1784851200-1785110399@materdolorosa.org
SUMMARY:Recovery Weekend Fr. Barney Nixon
DESCRIPTION:
URL:https://materdolorosa.org/event/recovery-weekend-fr-barney-nixon/
CATEGORIES:Recovery & 12 Step,Weekend
END:VEVENT
BEGIN:VEVENT
DTSTART;VALUE=DATE:20260731
DTEND;VALUE=DATE:20260803
DTSTAMP:20260424T111408
CREATED:20251117T202321Z
LAST-MODIFIED:20251117T203111Z
UID:10000121-1785456000-1785715199@materdolorosa.org
SUMMARY:Retiro para Mujeres
DESCRIPTION:
URL:https://materdolorosa.org/event/retiro-para-mujeres/
CATEGORIES:Spanish,Weekend,Women
END:VEVENT
END:VCALENDAR